BEGIN:VCALENDAR
VERSION:2.0
PRODID:-//217.160.0.176//NONSGML kigkonsult.se iCalcreator 2.20//
CALSCALE:GREGORIAN
METHOD:PUBLISH
X-WR-TIMEZONE:UTC
BEGIN:VEVENT
UID:event146@1ère compagnie d arc d Aulnay-sous-Bois
DTSTAMP:20260420T100711Z
CATEGORIES:Evènements
DESCRIPTION:Flèche bleue\nCategory: Evènements\nLink: http://arcaulnay.fr/i
 ndex.php?option=com_jem&view=event&id=146:fleche-bleue\n
DTSTART;VALUE=DATE:20250326
DTEND;VALUE=DATE:20250327
SUMMARY:Flèche bleue
URL:http://arcaulnay.fr/index.php?option=com_jem&view=event&id=146:fleche-b
 leue
END:VEVENT
END:VCALENDAR
