BEGIN:VCALENDAR
VERSION:2.0
PRODID:-//217.160.0.176//NONSGML kigkonsult.se iCalcreator 2.20//
CALSCALE:GREGORIAN
METHOD:PUBLISH
X-WR-TIMEZONE:UTC
BEGIN:VEVENT
UID:event142@1ère compagnie d arc d Aulnay-sous-Bois
DTSTAMP:20260420T100711Z
CATEGORIES:Evènements
DESCRIPTION:PG\nCategory: Evènements\nLink: http://arcaulnay.fr/index.php?o
 ption=com_jem&view=event&id=142:pg\n
DTSTART;VALUE=DATE:20250830
DTEND;VALUE=DATE:20250901
SUMMARY:PG
URL:http://arcaulnay.fr/index.php?option=com_jem&view=event&id=142:pg
END:VEVENT
END:VCALENDAR
