BEGIN:VCALENDAR
VERSION:2.0
PRODID:-//217.160.0.176//NONSGML kigkonsult.se iCalcreator 2.20//
CALSCALE:GREGORIAN
METHOD:PUBLISH
X-WR-TIMEZONE:UTC
BEGIN:VEVENT
UID:event120@1ère compagnie d arc d Aulnay-sous-Bois
DTSTAMP:20260420T100713Z
CATEGORIES:Evènements
DESCRIPTION:Flèche rouge\nCategory: Evènements\nLink: http://arcaulnay.fr/i
 ndex.php?option=com_jem&view=event&id=120:fleche-rouge\n
DTSTART;VALUE=DATE:20240612
DTEND;VALUE=DATE:20240613
SUMMARY:Flèche rouge
URL:http://arcaulnay.fr/index.php?option=com_jem&view=event&id=120:fleche-r
 ouge
END:VEVENT
END:VCALENDAR
